BEGIN:VCALENDAR
VERSION:2.0
PRODID:-//ChamberMaster//Event Calendar 2.0//EN
METHOD:PUBLISH
X-PUBLISHED-TTL:P1H
REFRESH-INTERVAL:P1H
CALSCALE:GREGORIAN
BEGIN:VTIMEZONE
TZID:America/Vancouver
BEGIN:DAYLIGHT
RRULE:FREQ=YEARLY;BYMONTH=3;BYDAY=2SU
DTSTART:20070101T000000
TZOFFSETFROM:-0800
TZOFFSETTO:-0700
TZNAME:Pacific Daylight Time
END:DAYLIGHT
BEGIN:STANDARD
RRULE:FREQ=YEARLY;BYMONTH=11;BYDAY=1SU
DTSTART:20070101T000000
TZOFFSETFROM:-0700
TZOFFSETTO:-0800
TZNAME:Pacific Standard Time
END:STANDARD
END:VTIMEZONE
BEGIN:VEVENT
DTSTART;TZID=America/Vancouver:20230721T100000
DTEND;TZID=America/Vancouver:20230721T110000
X-MICROSOFT-CDO-ALLDAYEVENT:FALSE
SUMMARY:6 Free Google Tools To Improve Your Marketing
DESCRIPTION:Want to get more prominent in Search and improve your overall marketing?Google has many free products that will help you do just that!\n\nJoin us to find out how to use these tools to accelerate your marketing in multiple ways.\n\nIn this high energy workshop and presentation\, we'll cover:\n- Google Search Console- Google Tag Manager- Google Ads Keyword Tool- Google Business Profile- Google Merchant Center- YouTubeWe'll keep the formal presentation to a fast-paced 30 minutes and leave lots of time for questions for those who wish to stick around.This session will be lead by Rob Cooper\, an online marketing veteran\, Google Premier Partner and founder of PlusROI Online Marketing and What Works Marketing.Rob's been in working in strategic roles in digital marketing for 20+ years. He's worked with hundreds of local and international digital marketing clients since launching PlusROI Online Marketing in 2007.He currently works with small to medium-sized companies looking to accelerate their online sales and bookings.This is the 15th webinar in the educational series we launched in March 2020 to help marketers increase their skills in these fast-changing times.We look forward to seeing you online!\nRegister here!
X-ALT-DESC;FMTTYPE=text/html:<!DOCTYPE html><html><head><title></title></head><body aria-disabled="false"><h5 style="box-sizing: inherit\; padding: 0px\; margin: 0px 0px 0.5em\; font-family: Ubuntu\, sans-serif\; font-weight: 700\; font-size: 20px\; line-height: 1.5\; color: rgb(45\, 55\, 72)\; font-style: normal\; font-variant-ligatures: normal\; font-variant-caps: normal\; letter-spacing: normal\; orphans: 2\; text-align: start\; text-indent: 0px\; text-transform: none\; widows: 2\; word-spacing: 0px\; -webkit-text-stroke-width: 0px\; white-space: normal\; background-color: rgb(255\, 255\, 255)\; text-decoration-thickness: initial\; text-decoration-style: initial\; text-decoration-color: initial\;"><br></h5><h5 style="box-sizing: inherit\; padding: 0px\; margin: 0px 0px 0.5em\; font-family: Ubuntu\, sans-serif\; font-weight: 700\; font-size: 20px\; line-height: 1.5\; color: rgb(45\, 55\, 72)\; font-style: normal\; font-variant-ligatures: normal\; font-variant-caps: normal\; letter-spacing: normal\; orphans: 2\; text-align: start\; text-indent: 0px\; text-transform: none\; widows: 2\; word-spacing: 0px\; -webkit-text-stroke-width: 0px\; white-space: normal\; background-color: rgb(255\, 255\, 255)\; text-decoration-thickness: initial\; text-decoration-style: initial\; text-decoration-color: initial\;"><strong fr-original-style="box-sizing: inherit\; font-weight: bold\;" style="box-sizing: inherit\; font-weight: bold\;"><span style="font-family: Arial\,Helvetica\,sans-serif\;">Want to get more prominent in Search and improve your overall marketing?</span></strong></h5><p style="box-sizing: inherit\; margin-top: 0px\; margin-bottom: var(--global-md-spacing)\; color: rgb(45\, 55\, 72)\; font-family: Ubuntu\, sans-serif\; font-size: 15px\; font-style: normal\; font-variant-ligatures: normal\; font-variant-caps: normal\; font-weight: 400\; letter-spacing: normal\; orphans: 2\; text-align: start\; text-indent: 0px\; text-transform: none\; widows: 2\; word-spacing: 0px\; -webkit-text-stroke-width: 0px\; white-space: normal\; background-color: rgb(255\, 255\, 255)\; text-decoration-thickness: initial\; text-decoration-style: initial\; text-decoration-color: initial\;"><span style="font-family: Arial\,Helvetica\,sans-serif\;">Google has many free products that will help you do just that!<br><br></span></p><p style="box-sizing: inherit\; margin-top: 0px\; margin-bottom: var(--global-md-spacing)\; color: rgb(45\, 55\, 72)\; font-family: Ubuntu\, sans-serif\; font-size: 15px\; font-style: normal\; font-variant-ligatures: normal\; font-variant-caps: normal\; font-weight: 400\; letter-spacing: normal\; orphans: 2\; text-align: start\; text-indent: 0px\; text-transform: none\; widows: 2\; word-spacing: 0px\; -webkit-text-stroke-width: 0px\; white-space: normal\; background-color: rgb(255\, 255\, 255)\; text-decoration-thickness: initial\; text-decoration-style: initial\; text-decoration-color: initial\;"><span style="font-family: Arial\,Helvetica\,sans-serif\;">Join us to find out how to use these tools to accelerate your marketing in multiple ways.<br><br></span></p><p style="box-sizing: inherit\; margin-top: 0px\; margin-bottom: var(--global-md-spacing)\; color: rgb(45\, 55\, 72)\; font-family: Ubuntu\, sans-serif\; font-size: 15px\; font-style: normal\; font-variant-ligatures: normal\; font-variant-caps: normal\; font-weight: 400\; letter-spacing: normal\; orphans: 2\; text-align: start\; text-indent: 0px\; text-transform: none\; widows: 2\; word-spacing: 0px\; -webkit-text-stroke-width: 0px\; white-space: normal\; background-color: rgb(255\, 255\, 255)\; text-decoration-thickness: initial\; text-decoration-style: initial\; text-decoration-color: initial\;"><span style="font-family: Arial\,Helvetica\,sans-serif\;">In this high energy workshop and presentation\, we&rsquo\;ll cover:</span></p><p style="box-sizing: inherit\; margin-top: 0px\; margin-bottom: var(--global-md-spacing)\; color: rgb(45\, 55\, 72)\; font-family: Ubuntu\, sans-serif\; font-size: 15px\; font-style: normal\; font-variant-ligatures: normal\; font-variant-caps: normal\; font-weight: 400\; letter-spacing: normal\; orphans: 2\; text-align: start\; text-indent: 0px\; text-transform: none\; widows: 2\; word-spacing: 0px\; -webkit-text-stroke-width: 0px\; white-space: normal\; background-color: rgb(255\, 255\, 255)\; text-decoration-thickness: initial\; text-decoration-style: initial\; text-decoration-color: initial\;"><span style="font-family: Arial\,Helvetica\,sans-serif\;"><br></span></p><p><span style="font-family: Arial\,Helvetica\,sans-serif\;">- Google Search Console</span></p><p><span style="font-family: Arial\,Helvetica\,sans-serif\;">- Google Tag Manager</span></p><p><span style="font-family: Arial\,Helvetica\,sans-serif\;">- Google Ads Keyword Tool</span></p><p><span style="font-family: Arial\,Helvetica\,sans-serif\;">- Google Business Profile</span></p><p><span style="font-family: Arial\,Helvetica\,sans-serif\;">- Google Merchant Center</span></p><p><span style="font-family: Arial\,Helvetica\,sans-serif\;">- YouTube</span></p><p><span style="font-family: Arial\,Helvetica\,sans-serif\;"><span style="color: rgb(74\, 85\, 104)\; font-size: 18px\; font-style: normal\; font-variant-ligatures: normal\; font-variant-caps: normal\; font-weight: 700\; letter-spacing: normal\; orphans: 2\; text-align: start\; text-indent: 0px\; text-transform: none\; widows: 2\; word-spacing: 0px\; -webkit-text-stroke-width: 0px\; white-space: normal\; background-color: rgb(255\, 255\, 255)\; text-decoration-thickness: initial\; text-decoration-style: initial\; text-decoration-color: initial\; float: none\; display: inline !important\;">We&rsquo\;ll keep the formal presentation to a fast-paced 30 minutes and leave lots of time for questions for those who wish to stick around.</span></span></p><p><span style="font-family: Arial\,Helvetica\,sans-serif\;">This session will be lead by Rob Cooper\, an online marketing veteran\, Google Premier Partner and founder of PlusROI Online Marketing and What Works Marketing.</span></p><p><span style="font-family: Arial\,Helvetica\,sans-serif\;">Rob&rsquo\;s been in working in strategic roles in digital marketing for 20+ years. He&rsquo\;s worked with hundreds of local and international digital marketing clients since launching PlusROI Online Marketing in 2007.</span></p><p><span style="font-family: Arial\,Helvetica\,sans-serif\;">He currently works with small to medium-sized companies looking to accelerate their online sales and bookings.</span></p><p><span style="font-family: Arial\,Helvetica\,sans-serif\;">This is the 15th webinar in the educational series we launched in March 2020 to help marketers increase their skills in these fast-changing times.</span></p><p><span style="font-family: Arial\,Helvetica\,sans-serif\;">We look forward to seeing you online!</span></p><p><br></p><p><a fr-original-style="" href="https://plusroi.com/webinar/free-google-tools/" rel="noopener noreferrer" style="user-select: auto\;" target="_blank"><strong fr-original-style=""><u><span style="font-family: Arial\, Helvetica\, sans-serif\; font-size: 14px\;">Register here!</span></u></strong></a></p><p><br></p></body></html>
LOCATION:
UID:e.1840.835767
SEQUENCE:3
DTSTAMP:20260423T155307Z
URL:https://members.viatec.ca/adv-manufacturing-rt-events/Details/6-free-google-tools-to-improve-your-marketing-927224?sourceTypeId=Hub
END:VEVENT
END:VCALENDAR
