BEGIN:VCALENDAR
VERSION:2.0
PRODID:-//ChamberMaster//Event Calendar 2.0//EN
METHOD:PUBLISH
X-PUBLISHED-TTL:P1H
REFRESH-INTERVAL:P1H
CALSCALE:GREGORIAN
BEGIN:VTIMEZONE
TZID:America/Vancouver
BEGIN:DAYLIGHT
RRULE:FREQ=YEARLY;BYMONTH=3;BYDAY=2SU
DTSTART:20070101T000000
TZOFFSETFROM:-0800
TZOFFSETTO:-0700
TZNAME:Pacific Daylight Time
END:DAYLIGHT
BEGIN:STANDARD
RRULE:FREQ=YEARLY;BYMONTH=11;BYDAY=1SU
DTSTART:20070101T000000
TZOFFSETFROM:-0700
TZOFFSETTO:-0800
TZNAME:Pacific Standard Time
END:STANDARD
END:VTIMEZONE
BEGIN:VEVENT
DTSTART;TZID=America/Vancouver:20260512T170000
DTEND;TZID=America/Vancouver:20260512T183000
X-MICROSOFT-CDO-ALLDAYEVENT:FALSE
SUMMARY:Human Leadership in the Age of AI - Web Summit Side Event
DESCRIPTION:BestHuman   Able present: Human Leadership in the Age of AI. AI is transforming how we build\, operate\, and scale companies   accelerating output\, compressing timelines\, and reshaping how teams work. But here's the real question: What does leadership look like when execution is amplified by AI   and expectations are higher than ever? This is a curated gathering of founders\, executives\, investors\, and operators attending Web Summit Vancouver   including leaders from private equity\, family offices\, and high-growth companies   for a high-signal conversation on leadership in an AI-driven world. No fluff. No theory. Just real perspectives from people actively building\, investing in\, and scaling businesses with AI. This is an independent side event and is not officially affiliated with Web Summit.https://luma.com/zmfad3j5
X-ALT-DESC;FMTTYPE=text/html:<!DOCTYPE html><html><head><title></title></head><body aria-disabled="false"><p>BestHuman &times\; Able present: Human Leadership in the Age of AI. AI is transforming how we build\, operate\, and scale companies &mdash\; accelerating output\, compressing timelines\, and reshaping how teams work. But here&rsquo\;s the real question: What does leadership look like when execution is amplified by AI &mdash\; and expectations are higher than ever?&nbsp\;</p><p>This is a curated gathering of founders\, executives\, investors\, and operators attending Web Summit Vancouver &mdash\; including leaders from private equity\, family offices\, and high-growth companies &mdash\; for a high-signal conversation on leadership in an AI-driven world. No fluff. No theory. Just real perspectives from people actively building\, investing in\, and scaling businesses with AI. This is an independent side event and is not officially affiliated with Web Summit.</p><p><a fr-original-style="" href="https://luma.com/zmfad3j5" style="user-select: auto\;">https://luma.com/zmfad3j5</a></p></body></html>
LOCATION:Vancouver BC
UID:e.1840.1447654
SEQUENCE:3
DTSTAMP:20260423T222329Z
URL:https://members.viatec.ca/adv-manufacturing-rt-events/Details/human-leadership-in-the-age-of-ai-web-summit-side-event-1714594?sourceTypeId=Hub
END:VEVENT
END:VCALENDAR
