BEGIN:VCALENDAR
VERSION:2.0
PRODID:-//ChamberMaster//Event Calendar 2.0//EN
METHOD:PUBLISH
X-PUBLISHED-TTL:P1H
REFRESH-INTERVAL:P1H
CALSCALE:GREGORIAN
BEGIN:VTIMEZONE
TZID:America/Vancouver
BEGIN:DAYLIGHT
RRULE:FREQ=YEARLY;BYMONTH=3;BYDAY=2SU
DTSTART:20070101T000000
TZOFFSETFROM:-0800
TZOFFSETTO:-0700
TZNAME:Pacific Daylight Time
END:DAYLIGHT
BEGIN:STANDARD
RRULE:FREQ=YEARLY;BYMONTH=11;BYDAY=1SU
DTSTART:20070101T000000
TZOFFSETFROM:-0700
TZOFFSETTO:-0800
TZNAME:Pacific Standard Time
END:STANDARD
END:VTIMEZONE
BEGIN:VEVENT
DTSTART;TZID=America/Vancouver:20260423T163000
DTEND;TZID=America/Vancouver:20260423T183000
X-MICROSOFT-CDO-ALLDAYEVENT:FALSE
SUMMARY:iWIST casual drinks
DESCRIPTION:A casual affair - enjoy a beverage and appies while connecting with old... and new friends! We're hanging out at the Grad House on the UVic campus this month so feel free to drop by\, and bring a friend! We have reserved the patio so here's hoping the weather cooperates. Register here: https://www.iwist.ca/events/casualdrinksapril2026 $8 for iWIST members (with exclusive discount code)\, $18 for future-members.
X-ALT-DESC;FMTTYPE=text/html:<!DOCTYPE html><html><head><title></title></head><body aria-disabled="false"><p>A casual affair - enjoy a beverage and appies while connecting with old... and new friends!&nbsp\;</p><p>We&#39\;re hanging out at the Grad House on the UVic campus this month so feel free to drop by\, and bring a friend! We have reserved the patio so here&#39\;s hoping the weather cooperates.&nbsp\;</p><p>Register here:&nbsp\;<a fr-original-style="" href="https://www.iwist.ca/events/casualdrinksapril2026" style="user-select: auto\;">https://www.iwist.ca/events/casualdrinksapril2026</a>&nbsp\;</p><p>$8 for iWIST members (with exclusive discount code)\, $18 for future-members.</p></body></html>
LOCATION:
UID:e.1840.1448554
SEQUENCE:3
DTSTAMP:20260423T222601Z
URL:https://members.viatec.ca/adv-manufacturing-rt-events/Details/iwist-casual-drinks-1715553?sourceTypeId=Hub
END:VEVENT
END:VCALENDAR
