BEGIN:VCALENDAR
VERSION:2.0
PRODID:-//ChamberMaster//Event Calendar 2.0//EN
METHOD:PUBLISH
X-PUBLISHED-TTL:P1H
REFRESH-INTERVAL:P1H
CALSCALE:GREGORIAN
BEGIN:VTIMEZONE
TZID:America/Vancouver
BEGIN:DAYLIGHT
RRULE:FREQ=YEARLY;BYMONTH=3;BYDAY=2SU
DTSTART:20070101T000000
TZOFFSETFROM:-0800
TZOFFSETTO:-0700
TZNAME:Pacific Daylight Time
END:DAYLIGHT
BEGIN:STANDARD
RRULE:FREQ=YEARLY;BYMONTH=11;BYDAY=1SU
DTSTART:20070101T000000
TZOFFSETFROM:-0700
TZOFFSETTO:-0800
TZNAME:Pacific Standard Time
END:STANDARD
END:VTIMEZONE
BEGIN:VEVENT
DTSTART;TZID=America/Vancouver:20231027T100000
DTEND;TZID=America/Vancouver:20231027T103000
X-MICROSOFT-CDO-ALLDAYEVENT:FALSE
SUMMARY:Advertising in 2023 – How To Succeed And What To Avoid
DESCRIPTION:Take Your Web Marketing to the Next Level: Free WebinarAre you wanting to grow your business through advertising? Are you wondering if that's even possible?Join veteran advertiser (and Google Premier Partner) Robert Cooper as he shares how companies can advertise effectively and how to avoid the many advertising pitfalls.We'll have a focus on online advertising but we'll also dig into traditional advertising\, how it compares and where it shines.Join us to learn:- How to pick the right type of advertising for your business- Tough questions to ask advertising vendors- How to mitigate risk when advertising- When to use display ads versus search ads versus traditional ads- Measuring success for the different types of adsWe'll keep the formal presentation to a fast-paced 30 minutes and leave lots of time for questions for those who wish to stick around.Free signup at https://plusroi.com/webinar/advertisingsecretsofsuccess/This session will be lead by Rob Cooper\, an online marketing veteran\, Google Premier Partner and founder of PlusROI Online Marketing and What Works Marketing.Rob's been in working in strategic roles in digital marketing for 20 years. He's personally worked with numerous local and international digital advertising clients since launching PlusROI Online Marketing in 2007.He currently works with small to medium-sized companies looking to accelerate their online sales and bookings.
X-ALT-DESC;FMTTYPE=text/html:<!DOCTYPE html><html><head><title></title></head><body aria-disabled="false"><p><span style="font-family: Arial\, Helvetica\, sans-serif\; font-size: 14px\;"><strong fr-original-style="" style="font-weight: 700\;"><br></strong></span></p><p><span style="font-size: 14px\;"><span style="font-family: Arial\,Helvetica\,sans-serif\;"><strong fr-original-style="" style="font-weight: 700\;">Take Your Web Marketing to the Next Level: Free Webinar</strong></span></span></p><p><span style="font-size: 14px\;"><span style="font-family: Arial\,Helvetica\,sans-serif\;">Are you wanting to grow your business through advertising? Are you wondering if that&rsquo\;s even possible?</span></span></p><p><span style="font-size: 14px\;"><span style="font-family: Arial\,Helvetica\,sans-serif\;">Join veteran advertiser (and Google Premier Partner) Robert Cooper as he shares how companies can advertise effectively and how to avoid the many advertising pitfalls.</span></span></p><p><span style="font-size: 14px\;"><span style="font-family: Arial\,Helvetica\,sans-serif\;">We&rsquo\;ll have a focus on online advertising but we&rsquo\;ll also dig into traditional advertising\, how it compares and where it shines.</span></span></p><p><span style="font-size: 14px\;"><span style="font-family: Arial\,Helvetica\,sans-serif\;"><strong fr-original-style="" style="font-weight: 700\;">Join us to learn:</strong></span></span></p><p><span style="font-size: 14px\;"><span style="font-family: Arial\,Helvetica\,sans-serif\;">- How to pick the right type of advertising for your business</span></span></p><p><span style="font-size: 14px\;"><span style="font-family: Arial\,Helvetica\,sans-serif\;">- Tough questions to ask advertising vendors</span></span></p><p><span style="font-size: 14px\;"><span style="font-family: Arial\,Helvetica\,sans-serif\;">- How to mitigate risk when advertising</span></span></p><p><span style="font-size: 14px\;"><span style="font-family: Arial\,Helvetica\,sans-serif\;">- When to use display ads versus search ads versus traditional ads</span></span></p><p><span style="font-size: 14px\;"><span style="font-family: Arial\,Helvetica\,sans-serif\;">- Measuring success for the different types of ads</span></span></p><p><span style="font-size: 14px\;"><span style="font-family: Arial\,Helvetica\,sans-serif\;">We&rsquo\;ll keep the formal presentation to a fast-paced 30 minutes and leave lots of time for questions for those who wish to stick around.</span></span></p><p><span style="font-size: 14px\;"><span style="font-family: Arial\,Helvetica\,sans-serif\;"><strong fr-original-style="" style="font-weight: 700\;">Free signup at&nbsp\;</strong><a fr-original-style="" href="https://plusroi.com/webinar/advertisingsecretsofsuccess/" rel="noopener noreferrer" style="user-select: auto\;" target="_blank"><strong fr-original-style="" style="font-weight: 700\;">https://plusroi.com/webinar/advertisingsecretsofsuccess/</strong></a></span></span></p><hr fr-original-style="" style="clear: both\; user-select: none\; break-after: page\;"><p><span style="font-size: 14px\;"><span style="font-family: Arial\,Helvetica\,sans-serif\;">This session will be lead by Rob Cooper\, an online marketing veteran\, Google Premier Partner and founder of PlusROI Online Marketing and What Works Marketing.</span></span></p><p><span style="font-size: 14px\;"><span style="font-family: Arial\,Helvetica\,sans-serif\;">Rob&rsquo\;s been in working in strategic roles in digital marketing for 20 years. He&rsquo\;s personally worked with numerous local and international digital advertising clients since launching PlusROI Online Marketing in 2007.</span></span></p><p><span style="font-family: Arial\, Helvetica\, sans-serif\; font-size: 14px\;">He currently works with small to medium-sized companies looking to accelerate their online sales and bookings.</span></p><p><br></p></body></html>
LOCATION:
UID:e.1840.875409
SEQUENCE:3
DTSTAMP:20260423T154613Z
URL:https://members.viatec.ca/adv-manufacturing-rt-events/Details/advertising-in-2023-how-to-succeed-and-what-to-avoid-979728?sourceTypeId=Hub
END:VEVENT
END:VCALENDAR
