BEGIN:VCALENDAR
VERSION:2.0
PRODID:-//ChamberMaster//Event Calendar 2.0//EN
METHOD:PUBLISH
X-PUBLISHED-TTL:P1H
REFRESH-INTERVAL:P1H
CALSCALE:GREGORIAN
BEGIN:VTIMEZONE
TZID:America/Vancouver
BEGIN:DAYLIGHT
RRULE:FREQ=YEARLY;BYMONTH=3;BYDAY=2SU
DTSTART:20070101T000000
TZOFFSETFROM:-0800
TZOFFSETTO:-0700
TZNAME:Pacific Daylight Time
END:DAYLIGHT
BEGIN:STANDARD
RRULE:FREQ=YEARLY;BYMONTH=11;BYDAY=1SU
DTSTART:20070101T000000
TZOFFSETFROM:-0700
TZOFFSETTO:-0800
TZNAME:Pacific Standard Time
END:STANDARD
END:VTIMEZONE
BEGIN:VEVENT
DTSTART;TZID=America/Vancouver:20260525T163000
DTEND;TZID=America/Vancouver:20260525T180000
X-MICROSOFT-CDO-ALLDAYEVENT:FALSE
SUMMARY:Software Leadership Peer Roundtable May Meeting
DESCRIPTION:TL\;DRA year-long\, monthly roundtable for senior technical leaders to explore how software engineering and leadership must evolve as AI agents generate most of the code. The focus is on redefining quality\, governance\, architecture\, and engineering principles in an AI-first world where code is no longer the primary output.OVERVIEWThis roundtable brings together senior technical leaders -- CTOs\, architects\, and experienced developers -- who guide teams\, shape technology strategy\, and influence how software evolves within their organizations. Our intent is to foster a sustained\, high-value conversation among peers navigating similar challenges.Over the next year\, our monthly meetings will explore a central theme that is rapidly redefining our field:What is the role of software developers and engineering leadership when AI agents can generate the majority of the code?We are witnessing dramatic advances in AI-assisted development. As AI-generated code becomes more capable\, abundant\, and disposable\, the nature of our work is shifting. This raises strategic questions that will define the future of our discipline:In a world where we rarely write code\, and might not need to read it at all -- how do we ensure quality\, correctness\, reliability\, and maintainability?How do oversight mechanisms and engineering principles evolve to prevent errors\, align systems with business intent\, and manage risk?What design patterns\, modular structures\, or corrective mechanisms will be required to offset the high risk of compounding mistakes and the inherent limitations of agent-driven development?Which long held principles of software engineering should we be abandonding and which should we continue to embrace?Throughout the year\, we will examine these questions from technical\, organizational\, ethical\, and operational perspectives. Our goal is not only to understand where software development is heading\, but also to shape how we lead our teams through this transition.This series will help us collectively consider how to architect\, validate\, and govern systems in a future where the code itself is no longer an important output of the task of creating software. It is an opportunity to define what software engineering becomes when the artifacts we produce and the practices we rely on must adapt to an AI-first development environment.We look forward to your insights and your leadership as we explore this evolving landscape together.\nFor more information on joining VIATEC Peer Roundtables\, please contact Rob Bennett by e-mail at rbennett@viatec.ca describing how you meet the eligibility criteria for this roundtable.
X-ALT-DESC;FMTTYPE=text/html:<!DOCTYPE html><html><head><title></title></head><body aria-disabled="false"><p><meta charset="utf-8"></p><p><meta charset="utf-8"></p><p><meta charset="utf-8"></p><p><meta charset="utf-8"></p><p><meta charset="utf-8"></p><p><meta charset="utf-8"></p><p><meta charset="utf-8"></p><p>TL\;DR</p><p>A year-long\, monthly roundtable for senior technical leaders to explore how software engineering and leadership must evolve as AI agents generate most of the code. The focus is on redefining quality\, governance\, architecture\, and engineering principles in an AI-first world where code is no longer the primary output.</p><p>OVERVIEW</p><p>This roundtable brings together senior technical leaders -- CTOs\, architects\, and experienced developers -- who guide teams\, shape technology strategy\, and influence how software evolves within their organizations. Our intent is to foster a sustained\, high-value conversation among peers navigating similar challenges.</p><p>Over the next year\, our monthly meetings will explore a central theme that is rapidly redefining our field:</p><p>What is the role of software developers and engineering leadership when AI agents can generate the majority of the code?</p><p>We are witnessing dramatic advances in AI-assisted development. As AI-generated code becomes more capable\, abundant\, and disposable\, the nature of our work is shifting. This raises strategic questions that will define the future of our discipline:</p><ul fr-original-style="" style="list-style-position: inside\;"><li>In a world where we rarely write code\, and might not need to read it at all -- how do we ensure quality\, correctness\, reliability\, and maintainability?</li><li>How do oversight mechanisms and engineering principles evolve to prevent errors\, align systems with business intent\, and manage risk?</li><li>What design patterns\, modular structures\, or corrective mechanisms will be required to offset the high risk of compounding mistakes and the inherent limitations of agent-driven development?</li><li>Which long held principles of software engineering should we be abandonding and which should we continue to embrace?</li></ul><p>Throughout the year\, we will examine these questions from technical\, organizational\, ethical\, and operational perspectives. Our goal is not only to understand where software development is heading\, but also to shape how we lead our teams through this transition.</p><p>This series will help us collectively consider how to architect\, validate\, and govern systems in a future where the code itself is no longer an important output of the task of creating software. It is an opportunity to define what software engineering becomes when the artifacts we produce&mdash\;and the practices we rely on&mdash\;must adapt to an AI-first development environment.</p><p>We look forward to your insights and your leadership as we explore this evolving landscape together.</p><p style="color: rgb(26\, 26\, 26)\; font-family: Lato\, sans-serif\; font-size: small\; font-style: normal\; font-variant-ligatures: normal\; font-variant-caps: normal\; font-weight: 400\; letter-spacing: normal\; orphans: 2\; text-align: start\; text-indent: 0px\; text-transform: none\; widows: 2\; word-spacing: 0px\; -webkit-text-stroke-width: 0px\; white-space: normal\; background-color: rgb(255\, 255\, 255)\; text-decoration-thickness: initial\; text-decoration-style: initial\; text-decoration-color: initial\; box-sizing: border-box\; margin: 0px 0px 1rem\;"><span style="font-size: 14px\;"><br><span style="font-family: Arial\, Helvetica\, sans-serif\;">For more information on joining&nbsp\;</span><span style="color: rgb(41\, 105\, 176)\;"><a fr-original-style="" href="https://www.viatec.ca/programsandservices/#Roundtable" rel="noopener noreferrer" style="user-select: auto\; color: inherit\;" target="_blank"><span style="font-family: Arial\, Helvetica\, sans-serif\;">VIATEC Peer Roundtables</span></a>\,</span><span style="font-family: Arial\, Helvetica\, sans-serif\;">&nbsp\;please contact Rob Bennett by e-mail at <a fr-original-style="color: rgb(17\, 85\, 204)\; font-size: 12.8px\;" href="mailto:rbennett@viatec.ca" style="color: rgb(17\, 85\, 204)\; font-size: 12.8px\; user-select: auto\;" target="_blank">rbennett@viatec.ca</a> describing how you meet the eligibility criteria for&nbsp\;</span><span style="color: rgb(0\, 0\, 0)\;"><span style="font-family: Arial\, Helvetica\, sans-serif\;">this roundtable</span></span></span><span style="font-family: Arial\, Helvetica\, sans-serif\; font-size: 14px\;">.</span></p></body></html>
LOCATION:Victoria BC
UID:e.1840.1440123
SEQUENCE:3
DTSTAMP:20260419T220046Z
URL:https://members.viatec.ca/adv-manufacturing-rt-events/Details/software-leadership-peer-roundtable-may-meeting-1704817?sourceTypeId=Hub
END:VEVENT
END:VCALENDAR
