BEGIN:VCALENDAR
VERSION:2.0
PRODID:-//ChamberMaster//Event Calendar 2.0//EN
METHOD:PUBLISH
X-PUBLISHED-TTL:P1H
REFRESH-INTERVAL:P1H
CALSCALE:GREGORIAN
BEGIN:VTIMEZONE
TZID:America/Vancouver
BEGIN:DAYLIGHT
RRULE:FREQ=YEARLY;BYMONTH=3;BYDAY=2SU
DTSTART:20070101T000000
TZOFFSETFROM:-0800
TZOFFSETTO:-0700
TZNAME:Pacific Daylight Time
END:DAYLIGHT
BEGIN:STANDARD
RRULE:FREQ=YEARLY;BYMONTH=11;BYDAY=1SU
DTSTART:20070101T000000
TZOFFSETFROM:-0700
TZOFFSETTO:-0800
TZNAME:Pacific Standard Time
END:STANDARD
END:VTIMEZONE
BEGIN:VEVENT
DTSTART;TZID=America/Vancouver:20260410T093000
DTEND;TZID=America/Vancouver:20260410T113000
X-MICROSOFT-CDO-ALLDAYEVENT:FALSE
SUMMARY:Come Experience Victoria’s Newest Immersive VR Center (April CEO Roundtable Meeting)
DESCRIPTION:Infusion Play (https://www.infusion-play.com/) is Victoria's newest interactive team-performance and immersive VR experience center.Infusion Play combines cutting-edge virtual reality with interactive challenge rooms designed to test leadership\, communication\, problem-solving\, and team coordination in a fun but meaningful environment. Participants work in small teams to complete timed challenges\, earn performance scores\, and experience a new style of experiential team development. Options include Non-VR\, VR Escape Room and VR Zombie Shooters.For this session\, we will combine:CEO networking and discussionA hands-on interactive leadership experienceOptional VR or team challenge participationTime to connect with fellow business leadersThis will be a unique opportunity to:Experience one of Victoria's newest innovation-driven venuesConnect with other CEOs in a relaxed environmentExplore new ideas around team culture and engagementSimply have fun while building relationshipsLocation: Infusion Play\, 102-546 Yates St\, Downtown Victoria (https://www.infusion-play.com/)Format: Networking + experiential activity*** Note that the start time for this session has been moved to 9:30am and we are meeting at Infusion Play!!! ***\nFor more information on joining VIATEC Peer Roundtables\, please contact Rob Bennett by e-mail at rbennett@viatec.ca describing how you meet the eligibility criteria for this roundtable.
X-ALT-DESC;FMTTYPE=text/html:<!DOCTYPE html><html><head><title></title></head><body aria-disabled="false"><p><meta charset="utf-8"></p><p><meta charset="utf-8"></p><p><meta charset="utf-8"></p><p><meta charset="utf-8"></p><p><meta charset="utf-8"></p><p><meta charset="utf-8"></p><p><strong fr-original-style="" style="font-weight: 700\;">Infusion Play</strong> (<a fr-original-style="" href="https://www.infusion-play.com/" rel="noopener noreferrer" style="user-select: auto\;" target="_blank">https://www.infusion-play.com/</a>) is Victoria&rsquo\;s newest interactive team-performance and immersive VR experience center.</p><p><strong fr-original-style="" style="font-weight: 700\;">Infusion Play</strong> combines cutting-edge virtual reality with interactive challenge rooms designed to test leadership\, communication\, problem-solving\, and team coordination in a fun but meaningful environment. Participants work in small teams to complete timed challenges\, earn performance scores\, and experience a new style of experiential team development.&nbsp\;</p><p>Options include Non-VR\, VR Escape Room and VR Zombie Shooters.</p><p>For this session\, we will combine:</p><ul fr-original-style="" style="list-style-position: inside\;"><li>CEO networking and discussion</li><li>A hands-on interactive leadership experience</li><li>Optional VR or team challenge participation</li><li>Time to connect with fellow business leaders</li></ul><p>This will be a unique opportunity to:</p><ul fr-original-style="" style="list-style-position: inside\;"><li>Experience one of Victoria&rsquo\;s newest innovation-driven venues</li><li>Connect with other CEOs in a relaxed environment</li><li>Explore new ideas around team culture and engagement</li><li>Simply have fun while building relationships</li></ul><p>Location: <strong fr-original-style="" style="font-weight: 700\;">Infusion Play</strong>\, 102-546 Yates St\, Downtown Victoria (<a fr-original-style="" href="https://www.infusion-play.com/" rel="noopener noreferrer" style="user-select: auto\;" target="_blank">https://www.infusion-play.com/</a>)</p><p>Format: Networking + experiential activity</p><p><strong fr-original-style="" style="font-weight: 700\;">*** Note that the start time for this session has been moved to 9:30am and we are meeting at Infusion Play!!! ***</strong></p><p style="color: rgb(26\, 26\, 26)\; font-family: Lato\, sans-serif\; font-size: small\; font-style: normal\; font-variant-ligatures: normal\; font-variant-caps: normal\; font-weight: 400\; letter-spacing: normal\; orphans: 2\; text-align: start\; text-indent: 0px\; text-transform: none\; widows: 2\; word-spacing: 0px\; -webkit-text-stroke-width: 0px\; white-space: normal\; background-color: rgb(255\, 255\, 255)\; text-decoration-thickness: initial\; text-decoration-style: initial\; text-decoration-color: initial\; box-sizing: border-box\; margin: 0px 0px 1rem\;"><span style="font-size: 14px\;"><br><span style="font-family: Arial\, Helvetica\, sans-serif\;">For more information on joining&nbsp\;</span><span style="color: rgb(41\, 105\, 176)\;"><a fr-original-style="" href="https://www.viatec.ca/programsandservices/#Roundtable" rel="noopener noreferrer" style="user-select: auto\; color: inherit\;" target="_blank"><span style="font-family: Arial\, Helvetica\, sans-serif\;">VIATEC Peer Roundtables</span></a></span><span style="font-family: Arial\, Helvetica\, sans-serif\;">\, please contact Rob Bennett by e-mail at <a fr-original-style="color: rgb(17\, 85\, 204)\; font-size: 12.8px\;" href="mailto:rbennett@viatec.ca" style="color: rgb(17\, 85\, 204)\; font-size: 12.8px\; user-select: auto\;" target="_blank">rbennett@viatec.ca</a> describing how you meet the eligibility criteria for&nbsp\;</span><span style="color: rgb(0\, 0\, 0)\;"><span style="font-family: Arial\, Helvetica\, sans-serif\;">this roundtable</span></span></span><span style="font-family: Arial\, Helvetica\, sans-serif\; font-size: 14px\;">.</span></p></body></html>
LOCATION:102-546 Yates Street Victoria BC
UID:e.1840.1430654
SEQUENCE:3
DTSTAMP:20260426T024335Z
URL:https://members.viatec.ca/adv-manufacturing-rt-events/Details/come-experience-victoria-s-newest-immersive-vr-center-april-ceo-roundtable-meeting-1693080?sourceTypeId=Hub
END:VEVENT
END:VCALENDAR
